BEGIN:VCALENDAR
VERSION:2.0
PRODID:Events Booking
BEGIN:VEVENT
UID:69e5dcac7252f
SUMMARY:Pass Académie Saison Ete | 6 concerts
DESCRIPTION:
 
 
 Academy Pass 20%
 6 concerts
 
 Receive an immediat
 e 20% discount by purchasing an \"Academy Pass 20%\". This pass grants you
  access to all 6 paid concerts from July 1 to 6\, 2025.
 
 
 
DTSTART:20250430T220000Z
DTEND:20250501T210000Z
DTSTAMP:20250509T114123Z
ORGANIZER;CN=Geneva International String Academy:MAILTO:contact@genevastrin
 gacademy.com
END:VEVENT
END:VCALENDAR