BEGIN:VCALENDAR
VERSION:2.0
PRODID:Events Booking
BEGIN:VEVENT
UID:69e5efb9f258c
SUMMARY:Masterclasse Valentin Erben\, violoncelliste Quatuor Alban Berg 
DESCRIPTION:Valentin Erben - violoncelliste du Quatuor Alban Berg
 Le viol
 oncelliste Valentin Erben du Quatuor Alban Berg donnera une masterclasse o
 uverte au public de 14h30 à 17h30.
 Entrée libre.
LOCATION:Grand-Rue 11\, 1204 Genève\, Suisse
DTSTART:20250702T123000Z
DTEND:20250702T153000Z
DTSTAMP:20250511T162355Z
ORGANIZER;CN=Geneva International String Academy:MAILTO:contact@genevastrin
 gacademy.com
GEO:46.20258;6.145095
X-APPLE-STRUCTURED-LOCATION;VALUE=URI;X-ADDRESS=Grand-Rue 11\, 1204 Genève
 \, Suisse;X-APPLE-RADIUS=72;X-TITLE=Société de Lecture:46.20258;6.145095
END:VEVENT
END:VCALENDAR